BEGIN:VCALENDAR
VERSION:2.0
PRODID:-//UBC - SBME - ECPv6.14.2//NONSGML v1.0//EN
CALSCALE:GREGORIAN
METHOD:PUBLISH
X-WR-CALNAME:UBC - SBME
X-ORIGINAL-URL:https://bme.ubc.ca
X-WR-CALDESC:Events for UBC - SBME
REFRESH-INTERVAL;VALUE=DURATION:PT1H
X-Robots-Tag:noindex
X-PUBLISHED-TTL:PT1H
BEGIN:VTIMEZONE
TZID:America/Vancouver
BEGIN:DAYLIGHT
TZOFFSETFROM:-0800
TZOFFSETTO:-0700
TZNAME:PDT
DTSTART:20230312T100000
END:DAYLIGHT
BEGIN:STANDARD
TZOFFSETFROM:-0700
TZOFFSETTO:-0800
TZNAME:PST
DTSTART:20231105T090000
END:STANDARD
END:VTIMEZONE
BEGIN:VEVENT
DTSTART;TZID=America/Vancouver:20231204T120000
DTEND;TZID=America/Vancouver:20231204T130000
DTSTAMP:20260423T153645
CREATED:20231130T010244Z
LAST-MODIFIED:20240214T213251Z
UID:15761-1701691200-1701694800@bme.ubc.ca
SUMMARY:UBC School of Biomedical Engineering Presents: An Informative Online Session on the Amplitude Ventures Pre-Amp Fellowship Program
DESCRIPTION:Join us for an enlightening session and discover how you can transition from a brilliant scientist to a great entrepreneur. Explore the Pathway to Biotech Entrepreneurship with Insights from Past Fellow\, Rohit Singla. \nPresenter: Allyson Tighe from Amplitude \nRegistration: Registration required for this session. Register here. \nLocation: Online (Link provided upon RSVP) \nAbout the Pre-Amp Fellowship:\nSpearheaded by Canada’s leading life science VC firm\, Amplitude Ventures\, the Pre-Amp Fellowship focuses on creating life-changing health science companies. Engage in a three-month\, hands-on exploration from June to August\, working in teams to develop hypotheses for novel healthcare ventures. Fellows leverage diverse scientific fields\, from machine learning in drug development to next-generation gene editing\, to ideate world-changing concepts. This is not just an incubator or accelerator; it’s a rigorous program to transform scientific observations into impactful healthcare innovations. Past Fellows have progressed to impactful roles in technology incubation\, venture firms\, and as associates at Pre-Amp\, shaping the future of biotech ventures. \nWhat You’ll Gain:\nAlternate Academic Path: A blend of imagination\, translational science\, and rigorous scientific thinking\, offering a different trajectory than traditional academia. \nPractical Experience: Full-time\, paid roles\, and opportunities for mentorship\, with a mix of virtual and in-person sessions across Canada. \nEligibility: Open to outstanding life science-focused PhD candidates\, postdocs\, MDs\, and inventors with a self-starter mentality and a readiness for employment. \nApplication Process: \nApply to the Pre-Amp Fellowship. \nDeadline: Rolling basis until March 31st\, 2024.
URL:https://bme.ubc.ca/event/pre-amp-fellowship-program/
LOCATION:Virtual
ORGANIZER;CN="SBME":MAILTO:reception@sbme.ubc.ca
END:VEVENT
END:VCALENDAR